BEGIN:VCALENDAR
VERSION:2.0
PRODID:-//Tukios.com/
BEGIN:VEVENT
UID:37c6cd8d-eedf-4c1a-8528-86e2bf15178e@www.sensiblecf.com
DTSTAMP:20260424T213112Z
DTSTART:20260512T170000Z
DTEND:20260512T180000Z
SUMMARY:Mass
DESCRIPTION:
URL:https://www.sensiblecf.com/obituaries/graciela-saldivar
LOCATION:St. Augustine Cathedral 192 South Stone Avenue  Tucson AZ 85701
GEO:32.2190922;-110.9713872
END:VEVENT
END:VCALENDAR