BEGIN:VCALENDAR
VERSION:2.0
PRODID:-//Tukios.com/
BEGIN:VEVENT
UID:d8a186a4-12a2-484f-be33-cf392bd242e0@www.sensiblecf.com
DTSTAMP:20260424T212723Z
DTSTART:20260512T163000Z
DTEND:20260512T170000Z
SUMMARY:Prayer Service
DESCRIPTION:
URL:https://www.sensiblecf.com/obituaries/graciela-saldivar
LOCATION:St. Augustine Cathedral 192 South Stone Avenue  Tucson AZ 85701
GEO:32.2190922;-110.9713872
END:VEVENT
END:VCALENDAR